BEGIN:VCALENDAR
VERSION:2.0
PRODID:-//eventon.com NONSGML v1.0//EN
CALSCALE:GREGORIAN
METHOD:PUBLISH
BEGIN:VEVENT
UID:69e7398bbc82f
DTSTAMP:20260421T084707Z
DTSTART:20240628T180000Z
DTEND:20240628T220000Z
LOCATION:Centro San Rafael C/ Barranquet 25\,  03559\,  Alicante
SUMMARY:Cremà Hoguera San Rafael
DESCRIPTION:El día grande de la Hoguera San Rafael. Un día donde tendremo
 s desfile\,  proclamación de la Bellea y Cremà de nuestra Hoguera «Soña
 ndo con Dinosaurios»  2024\nhttps://csanrafael.org/events/test-event/
URL:https://csanrafael.org/events/test-event/
END:VEVENT
END:VCALENDAR